BEGIN:VCALENDAR
VERSION:2.0
PRODID:-//Tukios.com/
BEGIN:VEVENT
UID:3dd63e8c-495c-4f00-b888-81535bb36ded@www.helmsfuneralhomes.com
DTSTAMP:20260420T181030Z
DTSTART:20260428T143000Z
DTEND:20260428T153000Z
SUMMARY:Visitation
DESCRIPTION:
URL:https://www.helmsfuneralhomes.com/obituaries/melvin-rausch
LOCATION:St. John’s Catholic Church 201 Oak Street  Fort Atkinson IA 
	52144
GEO:43.1445584;-91.9311772
END:VEVENT
END:VCALENDAR