BEGIN:VCALENDAR
VERSION:2.0
PRODID:-//Tukios.com/
BEGIN:VEVENT
UID:48c5fb2a-e4bf-4947-99e1-f73652d5b2da@www.helmsfuneralhomes.com
DTSTAMP:20260420T181538Z
DTSTART:20260427T200000Z
DTEND:20260428T000000Z
SUMMARY:Visitation
DESCRIPTION:
URL:https://www.helmsfuneralhomes.com/obituaries/melvin-rausch
LOCATION:St. John’s Catholic Church 201 Oak Street  Fort Atkinson IA 
	52144
GEO:43.1445584;-91.9311772
END:VEVENT
END:VCALENDAR