BEGIN:VCALENDAR
VERSION:2.0
PRODID:-//Tukios.com/
BEGIN:VEVENT
UID:3835ea64-5961-466d-90a0-95c8f0940701@www.helmsfuneralhomes.com
DTSTAMP:20260420T180941Z
DTSTART:20260428T153000Z
DTEND:20260428T163000Z
SUMMARY:Mass
DESCRIPTION:
URL:https://www.helmsfuneralhomes.com/obituaries/melvin-rausch
LOCATION:St. John’s Catholic Church 201 Oak Street  Fort Atkinson IA 
	52144
GEO:43.1445584;-91.9311772
END:VEVENT
END:VCALENDAR